BEGIN:VCALENDAR
VERSION:2.0
PRODID:-//Katherine and Christopher//Wedding//EN
CALSCALE:GREGORIAN
METHOD:PUBLISH
BEGIN:VEVENT
UID:wedding-khusial-carpousis-2026-06-28@katherineandchristopher
DTSTAMP:20260424T004620
DTSTART:20260628T134500
DTEND:20260628T220000
SUMMARY:Katherine & Christopher Wedding
DESCRIPTION:The wedding of Katherine Khusial and Christopher Carpousis.\n\n
 Complimentary shuttles depart hotel lobbies at 1:00 PM.\nPlease plan to ar
 rive at the venue by 1:45 PM.\n\nFull details: http://wedding.tail9021bb.t
 s.net
LOCATION:Woodend Sanctuary & Mansion\, Chevy Chase\, MD
URL:http://wedding.tail9021bb.ts.net
STATUS:CONFIRMED
TRANSP:OPAQUE
BEGIN:VALARM
ACTION:DISPLAY
DESCRIPTION:Wedding tomorrow!
TRIGGER:-P1D
END:VALARM
BEGIN:VALARM
ACTION:DISPLAY
DESCRIPTION:Leave for the wedding soon
TRIGGER:-PT2H
END:VALARM
END:VEVENT
END:VCALENDAR